BEGIN:VCALENDAR
VERSION:2.0
PRODID:-//Musikverein Gornhofen e.V. - ECPv6.15.20//NONSGML v1.0//EN
CALSCALE:GREGORIAN
METHOD:PUBLISH
X-WR-CALNAME:Musikverein Gornhofen e.V.
X-ORIGINAL-URL:http://www.mv-gornhofen.de
X-WR-CALDESC:Veranstaltungen für Musikverein Gornhofen e.V.
REFRESH-INTERVAL;VALUE=DURATION:PT1H
X-Robots-Tag:noindex
X-PUBLISHED-TTL:PT1H
BEGIN:VTIMEZONE
TZID:Europe/Berlin
BEGIN:DAYLIGHT
TZOFFSETFROM:+0100
TZOFFSETTO:+0200
TZNAME:CEST
DTSTART:20220327T010000
END:DAYLIGHT
BEGIN:STANDARD
TZOFFSETFROM:+0200
TZOFFSETTO:+0100
TZNAME:CET
DTSTART:20221030T010000
END:STANDARD
BEGIN:DAYLIGHT
TZOFFSETFROM:+0100
TZOFFSETTO:+0200
TZNAME:CEST
DTSTART:20230326T010000
END:DAYLIGHT
BEGIN:STANDARD
TZOFFSETFROM:+0200
TZOFFSETTO:+0100
TZNAME:CET
DTSTART:20231029T010000
END:STANDARD
BEGIN:DAYLIGHT
TZOFFSETFROM:+0100
TZOFFSETTO:+0200
TZNAME:CEST
DTSTART:20240331T010000
END:DAYLIGHT
BEGIN:STANDARD
TZOFFSETFROM:+0200
TZOFFSETTO:+0100
TZNAME:CET
DTSTART:20241027T010000
END:STANDARD
END:VTIMEZONE
BEGIN:VEVENT
DTSTART;TZID=Europe/Berlin:20230501T140000
DTEND;TZID=Europe/Berlin:20230501T163000
DTSTAMP:20260424T150610
CREATED:20230318T085512Z
LAST-MODIFIED:20230318T085512Z
UID:473-1682949600-1682958600@www.mv-gornhofen.de
SUMMARY:Blütenfest Oberteuringen
DESCRIPTION:
URL:http://www.mv-gornhofen.de/termin/bluetenfest-oberteuringen/
LOCATION:Oberteuringen\, 88094
END:VEVENT
END:VCALENDAR